BEGIN:VCALENDAR
VERSION:2.0
PRODID:icalendar-ruby
CALSCALE:GREGORIAN
METHOD:PUBLISH
BEGIN:VEVENT
DTSTAMP:20260422T014743Z
UID:daa3f653-52dc-449b-ae94-b3a136738fec
DTSTART:20241004T220000Z
DTEND:20241004T230000Z
DESCRIPTION:Dawn Nelson\, Certified Fitness Instructor & Certified Holistic
  Health Practitioner\, to hold a donation-based YogaFaith class to benefit
  Safe Haven's domestic violence shelter. It will be held at Hampstead Wome
 n's Club\, 14435 Hwy 17\, Hampstead\, NC\, 6-7 pm. Free to attend\, and do
 nations are welcome.
ORGANIZER:lkirkpatrick@safehavenofpender.com
SUMMARY:YogaFaith with Dawn Nelson
END:VEVENT
END:VCALENDAR
