BEGIN:VCALENDAR
VERSION:2.0
PRODID:icalendar-ruby
CALSCALE:GREGORIAN
METHOD:PUBLISH
BEGIN:VEVENT
DTSTAMP:20260425T040500Z
UID:cbd0921b-daae-4501-ac97-a06bff1713cc
DTSTART:20240917T180000Z
DTEND:20240917T190000Z
DESCRIPTION:Join us for a special presentation with Jodi Polanski\, Executi
 ve Director for Lost Our Home Pet Rescue in Tempe\, AZ\, where we'll learn
  how Lost Our Home  forged a partnership with local domestic violence shel
 ters to ensure that both pets and people can find safety during crisis. 
ORGANIZER:kjohnson@redrover.org
SUMMARY:Working Together: Animal Shelters and Domestic Violence Services
END:VEVENT
END:VCALENDAR
