BEGIN:VCALENDAR
VERSION:2.0
PRODID:icalendar-ruby
CALSCALE:GREGORIAN
METHOD:PUBLISH
BEGIN:VEVENT
DTSTAMP:20260423T002659Z
UID:87f7458a-cb25-4da3-ac55-b25df4267259
DTSTART:20240820T133000Z
DTEND:20240820T210000Z
DESCRIPTION:Provide participants with the knowledge and tools to better ser
 ve victims of crime. The goal of this conference is to provide examples of
  positive victim assistance programs as well as resources for multidiscipl
 inary approaches to serving victims of crime. 
ORGANIZER:kevin.brennenstuhl7198@fvtc.edu
SUMMARY:Wisconsin Serving Victims of Crime Conference
END:VEVENT
END:VCALENDAR
