BEGIN:VCALENDAR
VERSION:2.0
PRODID:icalendar-ruby
CALSCALE:GREGORIAN
METHOD:PUBLISH
BEGIN:VEVENT
DTSTAMP:20260421T033621Z
UID:fcb38779-765f-4298-9fc8-1188a66c90af
DTSTART:20260326T170000Z
DTEND:20260326T180000Z
DESCRIPTION:Nutrition advice can feel overwhelming with so many conflicting
  diets and trends. In this webinar\, Nutritional Therapy Practitioner Kari
 anne Gwinn shares practical\, back-to-basics guidance to help you better u
 nderstand how to nourish your body.
ORGANIZER:info@domesticshelters.org
SUMMARY:Whole-Person Wellness: How to Keep it Simple and Build Health
END:VEVENT
END:VCALENDAR
