BEGIN:VCALENDAR
VERSION:2.0
PRODID:icalendar-ruby
CALSCALE:GREGORIAN
METHOD:PUBLISH
BEGIN:VEVENT
DTSTAMP:20260424T000726Z
UID:5b212c90-c43c-4bd5-8e82-8d83f5a2fb05
DTSTART:20230823T173000Z
DTEND:20230823T193000Z
DESCRIPTION:We are hearing more and more from survivors who want to see pro
 gramming and resources available to them after they are stabilized and out
  of their crisis. In this webinar\, we will learn about the amazing work o
 f processionals who are continuing to provide hope and healing to survivor
 s.
ORGANIZER:info@allianceforhope.com
SUMMARY:What Survivors Want You to Know: Trauma After Care
END:VEVENT
END:VCALENDAR
