BEGIN:VCALENDAR
VERSION:2.0
PRODID:icalendar-ruby
CALSCALE:GREGORIAN
METHOD:PUBLISH
BEGIN:VEVENT
DTSTAMP:20260422T214012Z
UID:e9e59f49-4a9e-4675-a3f6-d39f5b154ad2
DTSTART:20250203T180000Z
DTEND:20250203T191500Z
DESCRIPTION:In this webinar\, instructor Kim Colegrove will help you design
  a realistic\, sustainable\, self-improvement plan to reduce stress\, incr
 ease resilience\, and enjoy a more balanced life.
ORGANIZER:aaron@justiceclearinghouse.com
SUMMARY:Wellness\, Warrior Style Part 2: Daily\, Weekly\, and Monthly Strat
 egies to Boost Wellbeing
END:VEVENT
END:VCALENDAR
