BEGIN:VCALENDAR
VERSION:2.0
PRODID:icalendar-ruby
CALSCALE:GREGORIAN
METHOD:PUBLISH
BEGIN:VEVENT
DTSTAMP:20260420T132916Z
UID:ec5c3971-8b5a-46bb-b81c-a47e3cc32530
DTSTART:20250427T170000Z
DTEND:20250427T200000Z
DESCRIPTION:Ladies & girls — it’s time to be your own superhero.\nWheth
 er you’re walking to your car after work or shopping\, dealing with unwa
 nted attention\, or facing threats like domestic violence or sexual assaul
 t — you deserve to feel SAFE and STRONG.\nSunday\, April 27th @ 1pm.
ORGANIZER:support@igniteher.org
SUMMARY:Warrior Workshop by IgniteHer
END:VEVENT
END:VCALENDAR
