BEGIN:VCALENDAR
VERSION:2.0
PRODID:icalendar-ruby
CALSCALE:GREGORIAN
METHOD:PUBLISH
BEGIN:VEVENT
DTSTAMP:20260422T183825Z
UID:304d7642-91d5-4e1b-945e-4d28adaf5766
DTSTART:20191006T170000Z
DTEND:20191006T200000Z
DESCRIPTION:Harbor House Domestic Violence Shelter\, Walk to End The Silenc
 e. In Memory of those who have been affected by domestic violence /intimat
 e partner violence.Please join us to show your commitment to breaking the 
 silence and supporting survivors everywhere.
ORGANIZER:AWardell@PFCS1.org
SUMMARY:Walk to end the silence
END:VEVENT
END:VCALENDAR
