BEGIN:VCALENDAR
VERSION:2.0
PRODID:icalendar-ruby
CALSCALE:GREGORIAN
METHOD:PUBLISH
BEGIN:VEVENT
DTSTAMP:20260421T184421Z
UID:14990fb3-557e-4e3c-9193-5b51f4fef4fb
DTSTART:20241019T230000Z
DTEND:20241020T030000Z
DESCRIPTION:Each year\, the Unmask the Violence Gala supports the efforts o
 f A Safe Place\, which is the only comprehensive nonprofit agency solely f
 ocused on programs and services for survivors of domestic violence and hum
 an trafficking and their children in Lake County\, IL.
ORGANIZER:info@asafeplaceforhelp.org
SUMMARY:Unmask the Violence Gala
END:VEVENT
END:VCALENDAR
