BEGIN:VCALENDAR
VERSION:2.0
PRODID:icalendar-ruby
CALSCALE:GREGORIAN
METHOD:PUBLISH
BEGIN:VEVENT
DTSTAMP:20260420T103931Z
UID:221bb33c-e0ad-4bcb-9437-a68c944aeb67
DTSTART:20231013T220000Z
DTEND:20231014T010000Z
DESCRIPTION:Join us for a family friendly trick or treat at Lincoln Park. W
 e will also be having a donation-based pet costume contest! 
ORGANIZER:swecker@bwsh.org
SUMMARY:Trick-or-Treat in the Park
END:VEVENT
END:VCALENDAR
