BEGIN:VCALENDAR
VERSION:2.0
PRODID:icalendar-ruby
CALSCALE:GREGORIAN
METHOD:PUBLISH
BEGIN:VEVENT
DTSTAMP:20260423T092149Z
UID:579550b6-74ae-4e09-90aa-b347367a99e1
DTSTART:20200812T160000Z
DTEND:20200812T203000Z
DESCRIPTION:This workshop will review original research and findings on the
  impact of brain injuries on domestic violence victims and help participan
 ts better understand strangulation and traumatic brain injury. 
ORGANIZER:cdv@ucdenver.edu
SUMMARY:Traumatic Brain Injury and Strangulation caused by DV 
END:VEVENT
END:VCALENDAR
