BEGIN:VCALENDAR
VERSION:2.0
PRODID:icalendar-ruby
CALSCALE:GREGORIAN
METHOD:PUBLISH
BEGIN:VEVENT
DTSTAMP:20260420T104805Z
UID:2fd9a010-b543-48ac-b43e-94b3688d0104
DTSTART:20180929T160000Z
DTEND:20180929T180000Z
DESCRIPTION:This event will cover legislation\, the purpose of the act\, au
 thorizations/key provisions\, grant programs\, amendments\, current reauth
 orization status and how it relates to Ohio domestic violence laws. This e
 vent is sponsored by the Cleveland Metropolitan Bar Association. 
ORGANIZER:michaellauer@theunforgivinglightsociety.com
SUMMARY:THE VIOLENCE AGAINST WOMEN ACT OF 1994
END:VEVENT
END:VCALENDAR
