BEGIN:VCALENDAR
VERSION:2.0
PRODID:icalendar-ruby
CALSCALE:GREGORIAN
METHOD:PUBLISH
BEGIN:VEVENT
DTSTAMP:20260423T212314Z
UID:115bb98a-b1ac-4e4e-b7d0-3c14711c009f
DTSTART:20250904T170000Z
DTEND:20250904T180000Z
DESCRIPTION:Join us to gain research-based insights and practical perspecti
 ves that connect the personal toll of abuse with its vast social and econo
 mic consequences.
ORGANIZER:info@domesticshelters.org
SUMMARY:The High Cost We Pay to Tolerate Domestic Violence
END:VEVENT
END:VCALENDAR
