BEGIN:VCALENDAR
VERSION:2.0
PRODID:icalendar-ruby
CALSCALE:GREGORIAN
METHOD:PUBLISH
BEGIN:VEVENT
DTSTAMP:20260423T092114Z
UID:b4d7575d-eafa-42cb-b96f-51c5fbc15ea8
DTSTART:20220721T233000Z
DTEND:20220722T011500Z
DESCRIPTION:A Virtual Safe Haven to talk about Yout (teens) world
ORGANIZER:jae3fantzeemom@gmail.com
SUMMARY:Teen Support Group
END:VEVENT
END:VCALENDAR
