BEGIN:VCALENDAR
VERSION:2.0
PRODID:icalendar-ruby
CALSCALE:GREGORIAN
METHOD:PUBLISH
BEGIN:VEVENT
DTSTAMP:20260424T135922Z
UID:ed465633-d99b-4f52-b270-5fb38e925db8
DTSTART:20220616T233000Z
DTEND:20220617T011500Z
DESCRIPTION:A Virtual Safe Haven to talk about Yout (teens) world
ORGANIZER:jae3fantzeemom@gmail.com
SUMMARY:Teen Support Group
END:VEVENT
END:VCALENDAR
