BEGIN:VCALENDAR
VERSION:2.0
PRODID:icalendar-ruby
CALSCALE:GREGORIAN
METHOD:PUBLISH
BEGIN:VEVENT
DTSTAMP:20260420T190031Z
UID:07abb663-f206-4947-83ce-4df7e11e6c40
DTSTART:20221213T180000Z
DTEND:20221213T190000Z
DESCRIPTION:We will talk and discuss elderly abuse. We will identify each t
 ype and how to help elders that are being abused and/or that have been abu
 sed. Please join us virtually on Facebook live. Follow our page Angel Wing
 s Outreach Center. Thank you.
ORGANIZER:angelwingsoutreachcenter@gmail.com
SUMMARY:Talk It Out Tuesdays
END:VEVENT
END:VCALENDAR
