BEGIN:VCALENDAR
VERSION:2.0
PRODID:icalendar-ruby
CALSCALE:GREGORIAN
METHOD:PUBLISH
BEGIN:VEVENT
DTSTAMP:20260422T214205Z
UID:b991b2d4-bb5f-4e8f-b62d-fcfc9478bc3c
DTSTART:20230323T170000Z
DTEND:20230323T183000Z
DESCRIPTION:This widely held misconception that abuse ends after a victim l
 eaves a domestic violence situation places these survivors and their famil
 ies at risk. The desire to maintain power and control of an intimate partn
 er does not end when the relationship ends for an abusive partner.
ORGANIZER:info@domesticshelters.org
SUMMARY: Surviving Post-Separation Abuse: Supporting Survivors After Escapi
 ng Domestic Violence
END:VEVENT
END:VCALENDAR
