BEGIN:VCALENDAR
VERSION:2.0
PRODID:icalendar-ruby
CALSCALE:GREGORIAN
METHOD:PUBLISH
BEGIN:VEVENT
DTSTAMP:20260423T151907Z
UID:9cba3c51-e13c-43ad-a575-2c74d42c6b52
DTSTART:20200903T190000Z
DTEND:20200903T200000Z
DESCRIPTION:This webinar will discuss the importance of cross-sector collab
 oration in supporting domestic violence survivors and their pets. 
ORGANIZER:aaron@justiceclearinghouse.com
SUMMARY:Supporting DV Survivors and their Pets through Collaboration
END:VEVENT
END:VCALENDAR
