BEGIN:VCALENDAR
VERSION:2.0
PRODID:icalendar-ruby
CALSCALE:GREGORIAN
METHOD:PUBLISH
BEGIN:VEVENT
DTSTAMP:20260421T154216Z
UID:8611f7ce-da68-4d1f-9a58-a8ec382f7f09
DTSTART:20241008T220000Z
DTEND:20241009T000000Z
DESCRIPTION:Enjoy a free fashion show featuring clothing and accessories fr
 om Safe Haven Thrift Store & Haven Home Furniture & Decor. The event will 
 be held at Oval & Ale\, 47 N Hampstead Village Dr\, Hampstead\, NC 28443\,
  on Oct. 8\, 6-8 pm. 10% of food and drink proceeds benefit Safe Haven. Ra
 ffle prizes.
ORGANIZER:lkirkpatrick@safehavenofpender.com
SUMMARY:Strut for Survivors Fashion Show
END:VEVENT
END:VCALENDAR
