BEGIN:VCALENDAR
VERSION:2.0
PRODID:icalendar-ruby
CALSCALE:GREGORIAN
METHOD:PUBLISH
BEGIN:VEVENT
DTSTAMP:20260420T191437Z
UID:bf0e8fb1-0bcd-4034-b79d-1acb6a1182b7
DTSTART:20241027T120000Z
DTEND:20241027T160000Z
DESCRIPTION:Join Essex County Family Justice Center and five other organiza
 tions for the largest domestic and sexual violence fundraising event in th
 e state of New Jersey 5k \nhttps://runsignup.com/Race/NJ/WestOrange/spook
ORGANIZER:amani@essexcountyfjc.org
SUMMARY:Spooky Strides - Strides for Strength 5k Run and Walk
END:VEVENT
END:VCALENDAR
