BEGIN:VCALENDAR
VERSION:2.0
PRODID:icalendar-ruby
CALSCALE:GREGORIAN
METHOD:PUBLISH
BEGIN:VEVENT
DTSTAMP:20260423T030908Z
UID:5bad7237-5448-465f-a8f3-8d596ec9f273
DTSTART:20241014T150000Z
DTEND:20241014T180000Z
DESCRIPTION:Our 23rd Annual Silent Witness March and Dedication will be hel
 d honoring Berks County Pennsylvania victims of domestic violence. The eve
 nt will begin at 255 Chestnut St.\, Reading\, Pa. at 11 AM\, where we will
  march with life-sized silhouettes to the Miller Center\, followed by the 
 program and lunch. 
ORGANIZER:MindyM@SafeBerks.org
SUMMARY:Silent Witness March and Dedication
END:VEVENT
END:VCALENDAR
