BEGIN:VCALENDAR
VERSION:2.0
PRODID:icalendar-ruby
CALSCALE:GREGORIAN
METHOD:PUBLISH
BEGIN:VEVENT
DTSTAMP:20260422T091809Z
UID:009f8efa-5ec3-4f3c-9d5d-fe2d7e4ca574
DTSTART:20241017T210000Z
DTEND:20241017T230000Z
DESCRIPTION:This event will raise awareness of domestic violence\, inspire 
 action\, and foster hope. Meet at Brown Dog Coffee\, 103 W Fremont St\, Bu
 rgaw\, NC 28425 at 5 pm to walk to Hankins Park\, 310 N Walker St\, Burgaw
 \, NC 28425 for a vigil and ceremony at 6 pm. Family-friendly event. Free 
 to the public.
ORGANIZER:lkirkpatrick@safehavenofpender.com
SUMMARY:Safe Haven Domestic Violence Awareness Walk & Vigil
END:VEVENT
END:VCALENDAR
