BEGIN:VCALENDAR
VERSION:2.0
PRODID:icalendar-ruby
CALSCALE:GREGORIAN
METHOD:PUBLISH
BEGIN:VEVENT
DTSTAMP:20260419T181828Z
UID:119772be-643d-42e4-97d4-8505dc7fec9b
DTSTART:20191018T230000Z
DTEND:20191019T020000Z
DESCRIPTION:Join Rise as we celebrate our ruby anniversary with an unforget
 table 1970s themed bash. There will be food\, a DJ playing '70s hits\, a m
 usical performance by a survivor\, costume and dance contests\, and door p
 rizes.
ORGANIZER:info@rise-ny.org
SUMMARY:Rise's 40th Anniversary Celebration: Party Like It's 1979
END:VEVENT
END:VCALENDAR
