BEGIN:VCALENDAR
VERSION:2.0
PRODID:icalendar-ruby
CALSCALE:GREGORIAN
METHOD:PUBLISH
BEGIN:VEVENT
DTSTAMP:20260419T160927Z
UID:59dbc9cc-bfe6-4399-a40b-3ac741d16735
DTSTART:20220622T003000Z
DTEND:20220622T020000Z
DESCRIPTION:The importance of involving men and boys in the prevention of g
 ender-based violence.
ORGANIZER:agarcia@nextdoor.org
SUMMARY:Promoting Healthy Relationships: Virtual Workshop
END:VEVENT
END:VCALENDAR
