BEGIN:VCALENDAR
VERSION:2.0
PRODID:icalendar-ruby
CALSCALE:GREGORIAN
METHOD:PUBLISH
BEGIN:VEVENT
DTSTAMP:20260423T220834Z
UID:53c00959-53d6-4bf8-b5be-4fbad01c7342
DTSTART:20191019T200000Z
DTEND:20191019T230000Z
DESCRIPTION:Have you ever felt powerless\; being without the ability to mov
 e forward\, not able to make decisions\, helpless or weak? If so\, come ou
 t and join us for a powerful event.  This event is for everyone\, you will
  not walk away empty. \n
ORGANIZER:ldcarrington@empoweredtransitions.org
SUMMARY:Powerless to Empowered
END:VEVENT
END:VCALENDAR
