BEGIN:VCALENDAR
VERSION:2.0
PRODID:icalendar-ruby
CALSCALE:GREGORIAN
METHOD:PUBLISH
BEGIN:VEVENT
DTSTAMP:20260421T033056Z
UID:8a207761-9922-4e8c-8a11-13f5a86fbb32
DTSTART:20190916T150000Z
DTEND:20190916T230000Z
DESCRIPTION:The National Coalition Against Domestic Violence (NCADV) is ple
 ased to provide a forum to engage innovative thought\, provide cutting-edg
 e information and promote critical discussions addressing domestic violenc
 e and intersecting issues.
ORGANIZER:webinars@ncadv.org
SUMMARY:NCADV's 18th National Conference on DV
END:VEVENT
END:VCALENDAR
