BEGIN:VCALENDAR
VERSION:2.0
PRODID:icalendar-ruby
CALSCALE:GREGORIAN
METHOD:PUBLISH
BEGIN:VEVENT
DTSTAMP:20260422T035010Z
UID:6c03dd91-3b11-41a5-b604-1ae019d06a6f
DTSTART:20250320T180000Z
DTEND:20250320T190000Z
DESCRIPTION:Join us for a special presentation with My Dog is My Home as we
  delve into the significance of the human-animal bond for people experienc
 ing homelessness and examine the impact of co-sheltering through a storyte
 lling lens. 
ORGANIZER:kjohnson@redrover.org
SUMMARY:Keeping Families Together: The Impact of Co-Sheltering
END:VEVENT
END:VCALENDAR
