BEGIN:VCALENDAR
VERSION:2.0
PRODID:icalendar-ruby
CALSCALE:GREGORIAN
METHOD:PUBLISH
BEGIN:VEVENT
DTSTAMP:20260420T213744Z
UID:c65a3af7-286d-4444-bd6b-971c2e35496e
DTSTART:20231021T150000Z
DTEND:20231021T180000Z
DESCRIPTION:Our annual #IWillRunForThem event was established in 2016 as a 
 way for the community to come together and dedicate a run to those affecte
 d by domestic and sexual violence. We hold space every October in conjunct
 ion with Domestic Violence Awareness Month to promoting healing and wellne
 ss.
ORGANIZER:info@csvanw.org
SUMMARY:#IWillRunForThem 5k
END:VEVENT
END:VCALENDAR
