BEGIN:VCALENDAR
VERSION:2.0
PRODID:icalendar-ruby
CALSCALE:GREGORIAN
METHOD:PUBLISH
BEGIN:VEVENT
DTSTAMP:20260420T132826Z
UID:4a7fa87a-dd22-4192-87fd-2f2dc898d0f6
DTSTART:20230918T150000Z
DTEND:20230918T233000Z
DESCRIPTION:ACESDV’s Sexual Violence Core Advocacy Training is a five-day
 \, 36-hour comprehensive sexual violence advocacy training. This core trai
 ning examines the dynamics and sociocultural context of sexual violence\, 
 healthy sexuality\, and the facets of sexual assault response statewide.
ORGANIZER:info@acesdv.org
SUMMARY:*In-Person* September 2023 Sexual Violence Core Advocacy Training
END:VEVENT
END:VCALENDAR
