BEGIN:VCALENDAR
VERSION:2.0
PRODID:icalendar-ruby
CALSCALE:GREGORIAN
METHOD:PUBLISH
BEGIN:VEVENT
DTSTAMP:20260422T231539Z
UID:708aa38f-1e46-41b1-a299-f5a48a3ee969
DTSTART:20231017T160000Z
DTEND:20231017T170000Z
DESCRIPTION:This training is designed for individuals who have a loved one 
 who is or has been in an unhealthy or abusive relationship. We will give a
 ttendees helpful tips and skills to support a loved one. 
ORGANIZER:mgergen@journeyneo.org
SUMMARY:How to Help a Loved One Training
END:VEVENT
END:VCALENDAR
