BEGIN:VCALENDAR
VERSION:2.0
PRODID:icalendar-ruby
CALSCALE:GREGORIAN
METHOD:PUBLISH
BEGIN:VEVENT
DTSTAMP:20260419T182052Z
UID:516c6fd8-bed3-4479-bb92-f73d0b44a85e
DTSTART:20241029T130000Z
DTEND:20241029T200000Z
DESCRIPTION:Join RedRover and Greater Good Charities for a FREE one-day tra
 ining workshop where we'll discuss the link between human and animal viole
 nce and explore ways to create and sustain pet housing programs for people
  and pets in crisis.
ORGANIZER:kjohnson@redrover.org
SUMMARY:Housing People and Pets in Crisis Workshop: Tallahassee\, FL
END:VEVENT
END:VCALENDAR
