BEGIN:VCALENDAR
VERSION:2.0
PRODID:icalendar-ruby
CALSCALE:GREGORIAN
METHOD:PUBLISH
BEGIN:VEVENT
DTSTAMP:20260424T211144Z
UID:523c755b-e601-43f8-8e75-e622b82ce949
DTSTART:20231130T190000Z
DTEND:20231130T200000Z
DESCRIPTION:Join us for a special presentation with veterinarians Dr. Kate 
 Kuzminski and Dr. Sarah Reidenbach where we'll learn how to build collabor
 ative partnerships with community veterinarians\, including what services 
 to ask for and how to best approach the subject of low cost care. 
ORGANIZER:kjohnson@redrover.org
SUMMARY:Healing Together: Working with Veterinarians to Bring Care to Peopl
 e & Pets in Crisis
END:VEVENT
END:VCALENDAR
