BEGIN:VCALENDAR
VERSION:2.0
PRODID:icalendar-ruby
CALSCALE:GREGORIAN
METHOD:PUBLISH
BEGIN:VEVENT
DTSTAMP:20260423T210433Z
UID:59b0c326-9e6e-48d3-9b7b-bb77392ecce8
DTSTART:20191019T143000Z
DTEND:20191019T190000Z
DESCRIPTION:A family-friendly community event\, the Grace Pumpkin Parade is
  a celebration of the season and a great way to show you reject family vio
 lence.
ORGANIZER:ninas@gracesmithhouse.org
SUMMARY:Grace Pumpkin Parade
END:VEVENT
END:VCALENDAR
