BEGIN:VCALENDAR
VERSION:2.0
PRODID:icalendar-ruby
CALSCALE:GREGORIAN
METHOD:PUBLISH
BEGIN:VEVENT
DTSTAMP:20260426T031238Z
UID:472bb2b3-b8a2-4a41-bed3-1b7887221034
DTSTART:20230126T180000Z
DTEND:20230126T190000Z
DESCRIPTION:In this webinar\, Tonya Lovelace will explore the importance of
  supporting the full humanity of survivors by centering intersectionality 
 in all aspects of domestic violence services and within those organization
 s providing the services.
ORGANIZER:info@domesticshelters.org
SUMMARY:Full Humanity: Centering Intersectionality in All DV Services
END:VEVENT
END:VCALENDAR
