BEGIN:VCALENDAR
VERSION:2.0
PRODID:icalendar-ruby
CALSCALE:GREGORIAN
METHOD:PUBLISH
BEGIN:VEVENT
DTSTAMP:20260423T092114Z
UID:a8a8eabd-7a0c-4239-ad5c-8378eb44882e
DTSTART:20230927T220000Z
DTEND:20230927T230000Z
DESCRIPTION:The NO MORE Foundation is hosting a webinar to raise awareness 
 of sexual assault on campus\, inspire activism\, and provide tools for col
 lege men and women to say NO MORE to end sexual violence within their acad
 emic communities.
ORGANIZER:info@nomore.org
SUMMARY:From Awareness to Action: Ending Sexual Violence on Campus
END:VEVENT
END:VCALENDAR
