BEGIN:VCALENDAR
VERSION:2.0
PRODID:icalendar-ruby
CALSCALE:GREGORIAN
METHOD:PUBLISH
BEGIN:VEVENT
DTSTAMP:20260421T085736Z
UID:68475c54-295c-4752-9a35-761c55fb4339
DTSTART:20260318T160000Z
DTEND:20260318T230000Z
DESCRIPTION:Join Don't Forget the Pets for a FREE workshop where we'll disc
 uss the impact of the human-animal bond and explore ways to create and sus
 tain housing programs that keep people and pets together during times of c
 risis. This workshop is open to anyone with an interest in supporting peop
 le and pets.
ORGANIZER:kjohnson@redrover.org
SUMMARY:FREE Housing People and Pets in Crisis Workshop (Sacramento\, CA)
END:VEVENT
END:VCALENDAR
