BEGIN:VCALENDAR
VERSION:2.0
PRODID:icalendar-ruby
CALSCALE:GREGORIAN
METHOD:PUBLISH
BEGIN:VEVENT
DTSTAMP:20260422T160753Z
UID:b4bc6214-f81e-44e6-a004-ba5fd2596bf7
DTSTART:20201006T170000Z
DTEND:20201006T180000Z
DESCRIPTION:This webinar will examine how experiences of gendered violence 
 create pathways for girls into the juvenile justice system with an emphasi
 s on girls who are pushed into the system after experiencing familial viol
 ence. 
ORGANIZER:aaron@justiceclearinghouse.com
SUMMARY:Family Violence and the Abuse to Prison Pipeline for Girls
END:VEVENT
END:VCALENDAR
