BEGIN:VCALENDAR
VERSION:2.0
PRODID:icalendar-ruby
CALSCALE:GREGORIAN
METHOD:PUBLISH
BEGIN:VEVENT
DTSTAMP:20260422T184741Z
UID:9d99e57a-8c99-4eba-8c78-53fd5d968302
DTSTART:20241023T180000Z
DTEND:20241023T193000Z
DESCRIPTION:This event focuses on community gathering\, sharing resources\,
  and creative arts of expression. There will be a special remembrance dedi
 cated to lives lost to domestic violence in DC within the last year. We wi
 ll honor their memories with a vigil and moment of silence. Candles for vi
 ctims to be lit 
ORGANIZER:sharon.daugherty@dc.gov
SUMMARY:DVAM Awareness\, Empowerment and Memorial Vigil
END:VEVENT
END:VCALENDAR
