BEGIN:VCALENDAR
VERSION:2.0
PRODID:icalendar-ruby
CALSCALE:GREGORIAN
METHOD:PUBLISH
BEGIN:VEVENT
DTSTAMP:20260423T091449Z
UID:ecd906fe-4f87-4d40-811a-5c1af64d685a
DTSTART:20230207T190000Z
DTEND:20230207T194500Z
DESCRIPTION:Join us for a special presentation where we'll explore funding 
 opportunities through the RedRover Safe Housing grants program and share i
 nsider tips on how and when to apply. We'll also review sample budgets and
  MOUs and learn how to make your organization’s application stand out fr
 om the crowd!
ORGANIZER:DFTP@greatergood.org
SUMMARY:Don't Forget the Pets: Safe Housing Grants
END:VEVENT
END:VCALENDAR
