BEGIN:VCALENDAR
VERSION:2.0
PRODID:icalendar-ruby
CALSCALE:GREGORIAN
METHOD:PUBLISH
BEGIN:VEVENT
DTSTAMP:20260422T160404Z
UID:bb1c8b56-9b3b-4ab8-8828-0de8c1c25a69
DTSTART:20220725T160000Z
DTEND:20220725T223000Z
DESCRIPTION:RedRover and Greater Good Charities are hosting a FREE one-day 
 virtual training workshop\, exploring ways to create and sustain pet housi
 ng programs for people and pets in crisis.
ORGANIZER:rescuerebuild@greatergood.org
SUMMARY:Don't Forget the Pets: Housing People and Pets
END:VEVENT
END:VCALENDAR
