BEGIN:VCALENDAR
VERSION:2.0
PRODID:icalendar-ruby
CALSCALE:GREGORIAN
METHOD:PUBLISH
BEGIN:VEVENT
DTSTAMP:20260423T093148Z
UID:4f231f84-f01a-4917-b208-3893e2ca1327
DTSTART:20250115T023000Z
DTEND:20250114T213000Z
DESCRIPTION:Join RedRover and Greater Good Charities for a FREE one-day tra
 ining workshop where we'll discuss the link between human and animal viole
 nce and explore ways to create and sustain pet housing programs for people
  and pets in crisis.
ORGANIZER:kjohnson@redrover.org
SUMMARY:Don't Forget the Pets: Housing People and Pets in Crisis - Philadel
 phia
END:VEVENT
END:VCALENDAR
