BEGIN:VCALENDAR
VERSION:2.0
PRODID:icalendar-ruby
CALSCALE:GREGORIAN
METHOD:PUBLISH
BEGIN:VEVENT
DTSTAMP:20260422T174316Z
UID:02c1eb5a-32db-4b49-ac7e-bcaa82d53b35
DTSTART:20200317T130000Z
DTEND:20200317T074500Z
DESCRIPTION:Domestic violence abusers frequently target a victim's head\, n
 eck or face with often terrifying repeated assaults and strangulation. The
 se invisible injuries can cause lasting challenges and affect how the brai
 n works now and in the future. 
ORGANIZER:denisek@odvn.org
SUMMARY:Domestic Violence\, Traumatic Brain Injury\, and Strangulation
END:VEVENT
END:VCALENDAR
