BEGIN:VCALENDAR
VERSION:2.0
PRODID:icalendar-ruby
CALSCALE:GREGORIAN
METHOD:PUBLISH
BEGIN:VEVENT
DTSTAMP:20260423T152524Z
UID:922e52e8-7b6f-4c54-91be-57c5c5c79c33
DTSTART:20231026T160000Z
DTEND:20231026T173000Z
DESCRIPTION:This training will explore digital abuse (also known as technol
 ogy facilitated abuse)\; including how abusers misuse technology to harass
 \, threaten\, violate\, and abuse their victims. We will also discuss tech
 nology trends and technology safety planning.
ORGANIZER:mgergen@journeyneo.org
SUMMARY:Domestic Violence & Technology Training
END:VEVENT
END:VCALENDAR
