BEGIN:VCALENDAR
VERSION:2.0
PRODID:icalendar-ruby
CALSCALE:GREGORIAN
METHOD:PUBLISH
BEGIN:VEVENT
DTSTAMP:20260424T010525Z
UID:5ed1a35a-b183-4c9b-a49e-917d0d5aca52
DTSTART:20191012T140000Z
DTEND:20191012T180000Z
DESCRIPTION:Hello\, I would like to invite you to our second annual Domesti
 c Violence Brunch being held at Friendship Missionary Baptist Church. We w
 ill have various speakers attending the brunch to share their testimony. T
 here will be no charge for attending the brunch\, and everyone is welcomed
 . 
ORGANIZER:KIDawkin@aol.com
SUMMARY:Domestic Violence Brunch 
END:VEVENT
END:VCALENDAR
