BEGIN:VCALENDAR
VERSION:2.0
PRODID:icalendar-ruby
CALSCALE:GREGORIAN
METHOD:PUBLISH
BEGIN:VEVENT
DTSTAMP:20260423T130230Z
UID:b885e613-74ba-4a75-a782-9e0da311773c
DTSTART:20191004T160000Z
DTEND:20191004T170000Z
DESCRIPTION:A yearly event that brings together victims\, professionals and
  members of the community to acknowledge the start of Domestic Violence Aw
 areness Month in October. It is held during the lunch hour (light lunch is
  provided) to make it easier for many to take part.
ORGANIZER:projectcrossroads@jpdny.com
SUMMARY:Domestic Violence Awareness Walk/Unity Day
END:VEVENT
END:VCALENDAR
