BEGIN:VCALENDAR
VERSION:2.0
PRODID:icalendar-ruby
CALSCALE:GREGORIAN
METHOD:PUBLISH
BEGIN:VEVENT
DTSTAMP:20260421T044809Z
UID:e036629c-4b8f-4795-b00e-a1f446661c2d
DTSTART:20241026T140000Z
DTEND:20241026T170000Z
DESCRIPTION:This is a community event where panelists will discuss resource
 s and ways to combat domestic abuse. This will be a conversation to impact
  change.
ORGANIZER:Shamekapalmer@yahoo.com
SUMMARY:Domestic Violence Awareness Panel 
END:VEVENT
END:VCALENDAR
