BEGIN:VCALENDAR
VERSION:2.0
PRODID:icalendar-ruby
CALSCALE:GREGORIAN
METHOD:PUBLISH
BEGIN:VEVENT
DTSTAMP:20260422T213728Z
UID:792f1378-dd8b-4be8-8b3e-ab1300eaa3fc
DTSTART:20231007T020000Z
DTEND:20231007T040000Z
DESCRIPTION:Join us for a powerful Domestic Violence Awareness Month Paint 
 Night!  Get your tickets now for $40 and support an important cause. Choos
 e between a small or large canvas image. Payment must be made in full befo
 re the event. Payments can be made via cash or e-transfer to finance@tamit
 ik.ca 
ORGANIZER:projects@tamitik.ca
SUMMARY:Domestic Violence Awareness Paint Night  
END:VEVENT
END:VCALENDAR
