BEGIN:VCALENDAR
VERSION:2.0
PRODID:icalendar-ruby
CALSCALE:GREGORIAN
METHOD:PUBLISH
BEGIN:VEVENT
DTSTAMP:20260423T042911Z
UID:b895647d-072c-4e6a-8439-e9a1937ea50e
DTSTART:20241025T000000Z
DTEND:20241025T010000Z
DESCRIPTION:Attend our VIRTUAL Domestic Violence Awareness Candlelight Vigi
 l\, Honoring Survivors of Domestic Abuse on Thursday\, Oct 24th from 8 PM-
 9 PM. Guest speakers include Elyse Fitzpatrick\, David Moles\, and Naghmeh
  Panahi. 
ORGANIZER:lauren@calledtopeace.org
SUMMARY:Domestic Violence Awareness Month Virtual Vigil 
END:VEVENT
END:VCALENDAR
