BEGIN:VCALENDAR
VERSION:2.0
PRODID:icalendar-ruby
CALSCALE:GREGORIAN
METHOD:PUBLISH
BEGIN:VEVENT
DTSTAMP:20260423T220600Z
UID:a14ffba5-1762-4ddf-aa84-5fe885355f0c
DTSTART:20231027T150000Z
DTEND:20231027T171500Z
DESCRIPTION: October is Domestic Violence Awareness Month\, and this event 
 will include a summary of domestic violence research. Dr. Maria Turkson\,
  Associate Teaching Professor of Psychology\, and\nspecial guest speakers 
 will commemorate Domestic Violence Awareness Month\nfrom a trauma-informed
  perspective.
ORGANIZER:mat17@psu.edu
SUMMARY:Domestic Violence Awareness Event
END:VEVENT
END:VCALENDAR
