BEGIN:VCALENDAR
VERSION:2.0
PRODID:icalendar-ruby
CALSCALE:GREGORIAN
METHOD:PUBLISH
BEGIN:VEVENT
DTSTAMP:20260423T042236Z
UID:9fa76994-7483-429d-a961-9262e1971f2f
DTSTART:20200415T180000Z
DTEND:20200415T193000Z
DESCRIPTION:This webinar will focus on how we\, as tribal domestic violence
  programs and shelters can prepare and insure our ability to conduct busin
 ess after a disaster strikes.  It will not only address personal preparedn
 ess\, but important information on how to continue critical operations of 
 tribal dv.
ORGANIZER:newsletter@niwrc.org
SUMMARY:Disaster Planning for Tribal DV Programs and and Shelters
END:VEVENT
END:VCALENDAR
